BEGIN:VCALENDAR
VERSION:2.0
PRODID:SchoolNow
CALSCALE:GREGORIAN
BEGIN:VEVENT
UID:9f1134dc-3d2e-11ef-8460-0afff004008f
DTSTAMP:20240708T133311Z
SUMMARY:Board of Education Meeting
URL;VALUE=URI:https://www.district148.net/calendar/6231512/board-of-educati
 on-meeting-clone-clone-clone-clone-clone
DTSTART:20250121T230000Z
DTEND:20250122T000000Z
END:VEVENT
END:VCALENDAR
