BEGIN:VCALENDAR
VERSION:2.0
PRODID:SchoolNow
CALSCALE:GREGORIAN
BEGIN:VEVENT
UID:842b28d0-3d2e-11ef-86be-0a58a9feac02
DTSTAMP:20241022T215229Z
SUMMARY:Board of Education Meeting
URL;VALUE=URI:https://www.district148.net/calendar/6231509/board-of-educati
 on-meeting-clone-clone
DTSTART:20241022T220000Z
DTEND:20241022T230000Z
END:VEVENT
END:VCALENDAR
