BEGIN:VCALENDAR
VERSION:2.0
PRODID:SchoolNow
CALSCALE:GREGORIAN
BEGIN:VEVENT
UID:77db8886-3d2e-11ef-9e0d-0a58a9feac02
DTSTAMP:20240924T203918Z
SUMMARY:Board of Education Meeting
URL;VALUE=URI:https://www.district148.net/calendar/6231508/board-of-educati
 on-meeting-clone
DTSTART:20240924T220000Z
DTEND:20240924T230000Z
END:VEVENT
END:VCALENDAR
