BEGIN:VCALENDAR
VERSION:2.0
PRODID:SchoolNow
CALSCALE:GREGORIAN
BEGIN:VEVENT
UID:53d91d7c-3d2e-11ef-a676-027656b1b733
DTSTAMP:20240827T211701Z
SUMMARY:Board of Education Meeting
URL;VALUE=URI:https://www.district148.net/calendar/6231507/board-of-educati
 on-meeting
DTSTART:20240827T220000Z
DTEND:20240827T230000Z
END:VEVENT
END:VCALENDAR
