BEGIN:VCALENDAR
VERSION:2.0
PRODID:SchoolNow
CALSCALE:GREGORIAN
BEGIN:VEVENT
UID:f76ab81c-3d2c-11ef-a98b-0efec49c6b19
DTSTAMP:20240708T132121Z
SUMMARY:Juneteenth - District Office Closed
URL;VALUE=URI:https://www.district148.net/calendar/6231506/juneteenth-distr
 ict-office-closed-clone
DTSTART;VALUE=DATE:20250619
DTEND;VALUE=DATE:20250620
END:VEVENT
END:VCALENDAR
