BEGIN:VCALENDAR
VERSION:2.0
PRODID:SchoolNow
CALSCALE:GREGORIAN
BEGIN:VEVENT
UID:e9842bd4-3d2c-11ef-8a61-0a58a9feac02
DTSTAMP:20250429T151155Z
SUMMARY:Last Day of School
URL;VALUE=URI:https://www.district148.net/calendar/6231505/last-day-of-scho
 ol-clone-clone-clone
DTSTART;VALUE=DATE:20250530
DTEND;VALUE=DATE:20250531
END:VEVENT
END:VCALENDAR
