BEGIN:VCALENDAR
VERSION:2.0
PRODID:SchoolNow
CALSCALE:GREGORIAN
BEGIN:VEVENT
UID:da9d51c2-3d2c-11ef-94d2-0a58a9feac02
DTSTAMP:20240708T132032Z
SUMMARY:Memorial Day - NO SCHOOL
URL;VALUE=URI:https://www.district148.net/calendar/6231504/memorial-day-no-
 school-clone-clone-clone
DTSTART;VALUE=DATE:20250526
DTEND;VALUE=DATE:20250527
END:VEVENT
END:VCALENDAR
