BEGIN:VCALENDAR
VERSION:2.0
PRODID:SchoolNow
CALSCALE:GREGORIAN
BEGIN:VEVENT
UID:ac69c3bc-3d2c-11ef-84ec-02e998e3833b
DTSTAMP:20240708T131915Z
SUMMARY:Spring Break - NO SCHOOL
URL;VALUE=URI:https://www.district148.net/calendar/6231501/spring-break-no-
 school-clone-clone-clone
DTSTART;VALUE=DATE:20250421
DTEND;VALUE=DATE:20250426
END:VEVENT
END:VCALENDAR
