BEGIN:VCALENDAR
VERSION:2.0
PRODID:SchoolNow
CALSCALE:GREGORIAN
BEGIN:VEVENT
UID:9e561c26-3d2c-11ef-b516-0a58a9feac02
DTSTAMP:20240708T131851Z
SUMMARY:Good Friday - NO SCHOOL
URL;VALUE=URI:https://www.district148.net/calendar/6231500/good-friday-no-s
 chool-clone-clone-clone
DTSTART;VALUE=DATE:20250418
DTEND;VALUE=DATE:20250419
END:VEVENT
END:VCALENDAR
