BEGIN:VCALENDAR
VERSION:2.0
PRODID:SchoolNow
CALSCALE:GREGORIAN
BEGIN:VEVENT
UID:8ad06dfa-3d2c-11ef-85b5-0e3f006457b7
DTSTAMP:20240926T131106Z
SUMMARY:Parent Teacher Conference
URL;VALUE=URI:https://www.district148.net/calendar/6231499/parent-teacher-c
 onference-no-school-clone-clone-clone-clone
DTSTART;VALUE=DATE:20250331
DTEND;VALUE=DATE:20250401
END:VEVENT
END:VCALENDAR
