BEGIN:VCALENDAR
VERSION:2.0
PRODID:SchoolNow
CALSCALE:GREGORIAN
BEGIN:VEVENT
UID:79b1523c-3d2c-11ef-b228-0a58a9feac02
DTSTAMP:20240708T131750Z
SUMMARY:School Improvement Plan Day - Student Dismissal AT NOON
URL;VALUE=URI:https://www.district148.net/calendar/6231498/school-improveme
 nt-plan-day-student-dismissal-at-noon-clone-clone-clone-clone-clone-clone-
 clone-clone-clone-clone-clone-clone-clone-clone-clone-clone-clone-clone-cl
 one-clone-clone-clone-clone-clone-clone-clone-clone
DTSTART;VALUE=DATE:20250321
DTEND;VALUE=DATE:20250322
END:VEVENT
END:VCALENDAR
