BEGIN:VCALENDAR
VERSION:2.0
PRODID:SchoolNow
CALSCALE:GREGORIAN
BEGIN:VEVENT
UID:6c1ba906-3d2c-11ef-a026-0afff004008f
DTSTAMP:20240708T131727Z
SUMMARY:Casmir Pulaski Day - NO SCHOOL
URL;VALUE=URI:https://www.district148.net/calendar/6231497/casmir-pulaski-d
 ay-no-school-clone-clone-clone
DTSTART;VALUE=DATE:20250303
DTEND;VALUE=DATE:20250304
END:VEVENT
END:VCALENDAR
