BEGIN:VCALENDAR
VERSION:2.0
PRODID:SchoolNow
CALSCALE:GREGORIAN
BEGIN:VEVENT
UID:5550c760-3d2c-11ef-85e7-0a58a9feac02
DTSTAMP:20240708T131649Z
SUMMARY:Presidents' Day - NO SCHOOL
URL;VALUE=URI:https://www.district148.net/calendar/6231496/presidents-day-n
 o-school-clone-clone-clone
DTSTART;VALUE=DATE:20250217
DTEND;VALUE=DATE:20250218
END:VEVENT
END:VCALENDAR
