BEGIN:VCALENDAR
VERSION:2.0
PRODID:SchoolNow
CALSCALE:GREGORIAN
BEGIN:VEVENT
UID:10a133d4-3d2c-11ef-b583-0a58a9feac02
DTSTAMP:20240708T131453Z
SUMMARY:Dr. Martin Luther King Jr Day - NO SCHOOL
URL;VALUE=URI:https://www.district148.net/calendar/6231493/dr-martin-luther
 -king-jr-day-no-school-clone-clone-clone
DTSTART;VALUE=DATE:20250120
DTEND;VALUE=DATE:20250121
END:VEVENT
END:VCALENDAR
