BEGIN:VCALENDAR
VERSION:2.0
PRODID:SchoolNow
CALSCALE:GREGORIAN
BEGIN:VEVENT
UID:4b61160c-3d2b-11ef-a8fe-0a58a9feac02
DTSTAMP:20240708T130922Z
SUMMARY:Winter Break - No School
URL;VALUE=URI:https://www.district148.net/calendar/6230811/winter-break-no-
 school-clone-clone
DTSTART;VALUE=DATE:20241223
DTEND;VALUE=DATE:20250104
END:VEVENT
END:VCALENDAR
