BEGIN:VCALENDAR
VERSION:2.0
PRODID:SchoolNow
CALSCALE:GREGORIAN
BEGIN:VEVENT
UID:33209504-3d2b-11ef-a7d1-0afff004008f
DTSTAMP:20240708T130842Z
SUMMARY:Fall Break/Thanksgiving - No School
URL;VALUE=URI:https://www.district148.net/calendar/6230810/fall-break-thank
 sgiving-no-school-clone-clone
DTSTART;VALUE=DATE:20241127
DTEND;VALUE=DATE:20241130
END:VEVENT
END:VCALENDAR
