BEGIN:VCALENDAR
VERSION:2.0
PRODID:SchoolNow
CALSCALE:GREGORIAN
BEGIN:VEVENT
UID:16035a6a-3d2b-11ef-9416-0a58a9feac02
DTSTAMP:20240708T130753Z
SUMMARY:School Improvement Plan Day - Student Dismissal AT NOON
URL;VALUE=URI:https://www.district148.net/calendar/6230809/school-improveme
 nt-plan-day-student-dismissal-at-noon-clone-clone-clone-clone-clone-clone-
 clone-clone-clone-clone-clone-clone-clone-clone-clone-clone-clone-clone-cl
 one-clone-clone-clone-clone-clone
DTSTART;VALUE=DATE:20241122
DTEND;VALUE=DATE:20241123
END:VEVENT
END:VCALENDAR
