BEGIN:VCALENDAR
VERSION:2.0
PRODID:SchoolNow
CALSCALE:GREGORIAN
BEGIN:VEVENT
UID:fdcbfa88-3d2a-11ef-b458-0a58a9feac02
DTSTAMP:20240708T130712Z
SUMMARY:Veteran's Day - No School
URL;VALUE=URI:https://www.district148.net/calendar/6230808/veterans-day-no-
 school-clone-clone
DTSTART;VALUE=DATE:20241111
DTEND;VALUE=DATE:20241112
END:VEVENT
END:VCALENDAR
