BEGIN:VCALENDAR
VERSION:2.0
PRODID:SchoolNow
CALSCALE:GREGORIAN
BEGIN:VEVENT
UID:d56dd4ee-3d2a-11ef-8f2c-0a58a9feac02
DTSTAMP:20240926T130957Z
SUMMARY:Parent Teacher Conference
URL;VALUE=URI:https://www.district148.net/calendar/6230807/parent-teacher-c
 onference-no-school-clone-clone-clone
DTSTART;VALUE=DATE:20241104
DTEND;VALUE=DATE:20241105
END:VEVENT
END:VCALENDAR
