BEGIN:VCALENDAR
VERSION:2.0
PRODID:SchoolNow
CALSCALE:GREGORIAN
BEGIN:VEVENT
UID:a55af3e0-3d2a-11ef-abe0-0a58a9feac02
DTSTAMP:20240708T130444Z
SUMMARY:Columbus Day - No School
URL;VALUE=URI:https://www.district148.net/calendar/6230806/columbus-day-no-
 school-clone-clone-clone
DTSTART;VALUE=DATE:20241014
DTEND;VALUE=DATE:20241015
END:VEVENT
END:VCALENDAR
