BEGIN:VCALENDAR
VERSION:2.0
PRODID:SchoolNow
CALSCALE:GREGORIAN
BEGIN:VEVENT
UID:9258538c-3d2a-11ef-84ea-0a58a9feac02
DTSTAMP:20240708T130412Z
SUMMARY:School Improvement Plan Day - Student Dismissal AT NOON
URL;VALUE=URI:https://www.district148.net/calendar/6230805/school-improveme
 nt-plan-day-student-dismissal-at-noon-clone-clone-clone-clone-clone-clone-
 clone-clone-clone-clone-clone-clone-clone-clone-clone-clone-clone-clone-cl
 one-clone-clone-clone-clone
DTSTART;VALUE=DATE:20241018
DTEND;VALUE=DATE:20241019
END:VEVENT
END:VCALENDAR
