BEGIN:VCALENDAR
VERSION:2.0
PRODID:SchoolNow
CALSCALE:GREGORIAN
BEGIN:VEVENT
UID:60df819a-3d2a-11ef-8330-027656b1b733
DTSTAMP:20240708T130249Z
SUMMARY:School Improvement Plan Day - Student Dismissal AT NOON
URL;VALUE=URI:https://www.district148.net/calendar/6230802/school-improveme
 nt-plan-day-student-dismissal-at-noon-clone-clone-clone-clone-clone-clone-
 clone-clone-clone-clone-clone-clone-clone-clone-clone-clone-clone-clone-cl
 one-clone-clone
DTSTART;VALUE=DATE:20240906
DTEND;VALUE=DATE:20240907
END:VEVENT
END:VCALENDAR
