BEGIN:VCALENDAR
VERSION:2.0
PRODID:SchoolNow
CALSCALE:GREGORIAN
BEGIN:VEVENT
UID:2934d060-3d2a-11ef-ba5e-0a58a9feac02
DTSTAMP:20240708T130116Z
SUMMARY:Labor Day - No School
URL;VALUE=URI:https://www.district148.net/calendar/6230801/labor-day-no-sch
 ool-clone-clone-clone
DTSTART;VALUE=DATE:20240902
DTEND;VALUE=DATE:20240903
END:VEVENT
END:VCALENDAR
