BEGIN:VCALENDAR
VERSION:2.0
PRODID:SchoolNow
CALSCALE:GREGORIAN
BEGIN:VEVENT
UID:12eaa2bc-3d2a-11ef-8d7a-0a58a9feac02
DTSTAMP:20240708T130038Z
SUMMARY:First Day of School
URL;VALUE=URI:https://www.district148.net/calendar/6230800/first-day-of-sch
 ool-clone-clone-clone
DTSTART;VALUE=DATE:20240819
DTEND;VALUE=DATE:20240820
END:VEVENT
END:VCALENDAR
