BEGIN:VCALENDAR
VERSION:2.0
PRODID:SchoolNow
CALSCALE:GREGORIAN
BEGIN:VEVENT
UID:3866bc8a-37e7-11ef-8aa7-0affd1b2c97d
DTSTAMP:20240701T201929Z
SUMMARY:Special Board of Education Meeting
URL;VALUE=URI:https://www.district148.net/calendar/6194306/special-board-of
 -education-meeting
DTSTART:20240701T233000Z
DTEND:20240702T003000Z
END:VEVENT
END:VCALENDAR
