BEGIN:VCALENDAR
VERSION:2.0
PRODID:SchoolNow
CALSCALE:GREGORIAN
BEGIN:VEVENT
UID:7096deaa-1ded-11ef-a66c-0a58a9feac02
DTSTAMP:20240529T185856Z
SUMMARY:Juneteenth - District Office Closed
URL;VALUE=URI:https://www.district148.net/calendar/6046631/juneteenth-distr
 ict-office-closed
DTSTART;VALUE=DATE:20240619
DTEND;VALUE=DATE:20240620
END:VEVENT
END:VCALENDAR
