BEGIN:VCALENDAR
VERSION:2.0
PRODID:SchoolNow
CALSCALE:GREGORIAN
BEGIN:VEVENT
UID:c4f82bfc-1b6e-11ee-85db-02b0137163b1
DTSTAMP:20230705T200146Z
SUMMARY:Last Day of School
URL;VALUE=URI:https://www.district148.net/calendar/4472337/last-day-of-scho
 ol-clone-clone
DTSTART;VALUE=DATE:20240529
DTEND;VALUE=DATE:20240530
END:VEVENT
END:VCALENDAR
