BEGIN:VCALENDAR
VERSION:2.0
PRODID:SchoolNow
CALSCALE:GREGORIAN
BEGIN:VEVENT
UID:b1ef7d6c-1b6e-11ee-9d5b-02b0137163b1
DTSTAMP:20230705T200114Z
SUMMARY:Memorial Day - NO SCHOOL
URL;VALUE=URI:https://www.district148.net/calendar/4472336/memorial-day-no-
 school-clone-clone
DTSTART;VALUE=DATE:20240527
DTEND;VALUE=DATE:20240528
END:VEVENT
END:VCALENDAR
