BEGIN:VCALENDAR
VERSION:2.0
PRODID:SchoolNow
CALSCALE:GREGORIAN
BEGIN:VEVENT
UID:10073aec-1b66-11ee-8ef4-0a6006a20b37
DTSTAMP:20240612T163825Z
SUMMARY:Buildings & Grounds/Finance Meeting
URL;VALUE=URI:https://www.district148.net/calendar/4472277/buildings-ground
 s-finance-meeting-clone-clone-clone-clone-clone-clone-clone-clone
DTSTART:20240612T170000Z
DTEND:20240612T180000Z
END:VEVENT
END:VCALENDAR
