BEGIN:VCALENDAR
VERSION:2.0
PRODID:SchoolNow
CALSCALE:GREGORIAN
BEGIN:VEVENT
UID:07647940-1b66-11ee-856a-0a6006a20b37
DTSTAMP:20230705T190256Z
SUMMARY:Buildings & Grounds/Finance Meeting
URL;VALUE=URI:https://www.district148.net/calendar/4472276/buildings-ground
 s-finance-meeting-clone-clone-clone-clone-clone-clone-clone-clone-clone
DTSTART:20240508T170000Z
DTEND:20240508T180000Z
END:VEVENT
END:VCALENDAR
