BEGIN:VCALENDAR
VERSION:2.0
PRODID:SchoolNow
CALSCALE:GREGORIAN
BEGIN:VEVENT
UID:8c536676-1b65-11ee-b66b-0a6006a20b37
DTSTAMP:20240625T221154Z
SUMMARY:Board of Education Meeting
LOCATION:District Office
URL;VALUE=URI:https://www.district148.net/calendar/4472263/board-of-educati
 on-meeting-clone-clone-clone-clone-clone-clone-clone-clone-clone-clone
DTSTART:20240625T230000Z
DTEND:20240626T010000Z
END:VEVENT
END:VCALENDAR
