BEGIN:VCALENDAR
VERSION:2.0
PRODID:SchoolNow
CALSCALE:GREGORIAN
BEGIN:VEVENT
UID:83d09eec-1b65-11ee-8030-0a6006a20b37
DTSTAMP:20240528T204154Z
SUMMARY:Board of Education Meeting
LOCATION:District Office
URL;VALUE=URI:https://www.district148.net/calendar/4472262/board-of-educati
 on-meeting-clone-clone-clone-clone-clone-clone-clone-clone-clone
DTSTART:20240528T230000Z
DTEND:20240529T010000Z
END:VEVENT
END:VCALENDAR
