BEGIN:VCALENDAR
VERSION:2.0
PRODID:SchoolNow
CALSCALE:GREGORIAN
BEGIN:VEVENT
UID:12b3aa46-b282-11ea-9f4e-0a801e6b230b
DTSTAMP:20200619T231031Z
SUMMARY:Board of Education Meeting
URL;VALUE=URI:https://www.district148.net/calendar/2264187/board-of-educati
 on-meeting
DTSTART:20200624T000000Z
DTEND:20200624T030000Z
END:VEVENT
END:VCALENDAR
