BEGIN:VCALENDAR
VERSION:2.0
PRODID:SchoolNow
CALSCALE:GREGORIAN
BEGIN:VEVENT
UID:e0f67bc8-b281-11ea-adfa-0a801e6b230b
DTSTAMP:20200619T231321Z
SUMMARY:Amended Budget Hearing
LOCATION:District Office
URL;VALUE=URI:https://www.district148.net/calendar/2264186/amended-budget-h
 earing
DTSTART:20200623T235000Z
DTEND:20200624T000000Z
END:VEVENT
END:VCALENDAR
