BEGIN:VCALENDAR
VERSION:2.0
PRODID:SchoolNow
CALSCALE:GREGORIAN
BEGIN:VEVENT
UID:544afc74-a991-11ea-9462-0a6243c628d7
DTSTAMP:20200608T140826Z
SUMMARY:Buildings & Grounds/Finance Committee Meeting
URL;VALUE=URI:https://www.district148.net/calendar/2257521/buildings-ground
 s-finance-committee-meeting
DTSTART:20200609T140000Z
DTEND:20200609T170000Z
END:VEVENT
END:VCALENDAR
