BEGIN:VCALENDAR
VERSION:2.0
PRODID:SchoolNow
CALSCALE:GREGORIAN
BEGIN:VEVENT
UID:5672a7d0-a447-11ea-8a3d-0a70ad59a833
DTSTAMP:20200615T202730Z
SUMMARY:Village of Riverdale Regular Board Meeting
URL;VALUE=URI:https://www.district148.net/calendar/2255105/village-of-river
 dale-board-meeting
DTSTART:20200701T000000Z
DTEND:20200701T010000Z
END:VEVENT
END:VCALENDAR
