BEGIN:VCALENDAR
VERSION:2.0
PRODID:SchoolNow
CALSCALE:GREGORIAN
BEGIN:VEVENT
UID:5c266514-a446-11ea-aa29-12e3e6774f05
DTSTAMP:20200601T202748Z
SUMMARY:Village of Riverdale Committee of the Whole Board Meeting
URL;VALUE=URI:https://www.district148.net/calendar/2255102/village-of-river
 dale-committee-of-the-whole-board-meeting
DTSTART:20200610T000000Z
DTEND:20200610T010000Z
END:VEVENT
END:VCALENDAR
