BEGIN:VCALENDAR
VERSION:2.0
PRODID:SchoolNow
CALSCALE:GREGORIAN
BEGIN:VEVENT
UID:adfafede-9386-11ea-a4d4-0accb74e0201
DTSTAMP:20200605T162636Z
SUMMARY:Class of 2020  - 8th Grade Virtual Commencement
URL;VALUE=URI:https://www.district148.net/calendar/2246109/class-of-2020-8t
 h-grade-virtual-commencement
DTSTART:20200607T150000Z
DTEND:20200607T190000Z
ATTACH;FILENAME="Class of 2020 - 8th Grade Virtual Commencement Letter (May
  9, 2020).pdf";FMTTYPE=application/pdf:https://campussuite-storage.s3.amaz
 onaws.com/prod/1558707/6f19c3be-5703-11e9-9304-129aa0711c2e/2095803/4739d1
 c8-937e-11ea-abdc-0abf9590ab1b/file/Class of 2020 - 8th Grade Virtual Comm
 encement Letter (May 9\, 2020).pdf
END:VEVENT
END:VCALENDAR
