BEGIN:VCALENDAR
VERSION:2.0
PRODID:SchoolNow
CALSCALE:GREGORIAN
BEGIN:VEVENT
UID:3896a282-9283-11ea-a293-0accb74e0201
DTSTAMP:20200510T060143Z
SUMMARY:Buildings & Grounds/Finance Committee Meetings
URL;VALUE=URI:https://www.district148.net/calendar/2245977/buildings-ground
 s-finance-committee-meetings
DTSTART:20200512T140000Z
DTEND:20200512T160000Z
END:VEVENT
END:VCALENDAR
