BEGIN:VCALENDAR
VERSION:2.0
PRODID:SchoolNow
CALSCALE:GREGORIAN
BEGIN:VEVENT
UID:577954e8-8a5d-11ea-98cd-122e1a9c6a73
DTSTAMP:20200429T210649Z
SUMMARY:School Improvement Plan Day - Student Dismissal AT NOON
URL;VALUE=URI:https://www.district148.net/calendar/2243259/school-improveme
 nt-plan-day-student-dismissal-at-noon
DTSTART:20210212T180000Z
DTEND:20210212T210000Z
END:VEVENT
END:VCALENDAR
