BEGIN:VCALENDAR
VERSION:2.0
PRODID:SchoolNow
CALSCALE:GREGORIAN
BEGIN:VEVENT
UID:ac97160a-6ec8-11ea-be63-0a185f02983f
DTSTAMP:20200325T184435Z
SUMMARY:Memorial Day - No School
URL;VALUE=URI:https://www.district148.net/calendar/2224751/memorial-day-no-
 school
DTSTART;VALUE=DATE:20200525
DTEND;VALUE=DATE:20200526
END:VEVENT
END:VCALENDAR
