BEGIN:VCALENDAR
VERSION:2.0
PRODID:SchoolNow
CALSCALE:GREGORIAN
BEGIN:VEVENT
UID:08d32048-6ea7-11ea-8712-0ad40cc9d5e5
DTSTAMP:20200427T215437Z
SUMMARY:School Board Meeting - April 28\, 2020 at 11:00 a.m.
URL;VALUE=URI:https://www.district148.net/calendar/2224729/school-board-mee
 ting
DTSTART:20200428T160000Z
DTEND:20200428T190000Z
END:VEVENT
END:VCALENDAR
