BEGIN:VCALENDAR
VERSION:2.0
PRODID:SchoolNow
CALSCALE:GREGORIAN
BEGIN:VEVENT
UID:b9c13062-6ea6-11ea-a82b-0ad40cc9d5e5
DTSTAMP:20200325T144134Z
SUMMARY:School Resumes After Spring Break
URL;VALUE=URI:https://www.district148.net/calendar/2224728/school-resumes-a
 fter-spring-break
DTSTART:20200420T124000Z
DTEND:20200421T014000Z
END:VEVENT
END:VCALENDAR
