BEGIN:VCALENDAR
VERSION:2.0
PRODID:SchoolNow
CALSCALE:GREGORIAN
BEGIN:VEVENT
UID:72e3a512-6ea6-11ea-a47c-0ad40cc9d5e5
DTSTAMP:20200410T125452Z
SUMMARY:Spring Break (breakfast and lunch will continue)
URL;VALUE=URI:https://www.district148.net/calendar/2224725/spring-break
DTSTART;VALUE=DATE:20200410
DTEND;VALUE=DATE:20200418
END:VEVENT
END:VCALENDAR
