BEGIN:VCALENDAR
VERSION:2.0
PRODID:SchoolNow
CALSCALE:GREGORIAN
BEGIN:VEVENT
UID:c900d42c-4c43-11ea-9626-0a3380fa0eb1
DTSTAMP:20200320T140940Z
SUMMARY:The School Board Meeting has been cancelled.
URL;VALUE=URI:https://www.district148.net/calendar/2198995/school-board-mee
 ting-clone
DTSTART:20200325T000000Z
DTEND:20200325T010000Z
END:VEVENT
END:VCALENDAR
