BEGIN:VCALENDAR
VERSION:2.0
PRODID:SchoolNow
CALSCALE:GREGORIAN
BEGIN:VEVENT
UID:b551ce22-4c43-11ea-88fc-0a3380fa0eb1
DTSTAMP:20200210T202707Z
SUMMARY:Third Quarter Ends
URL;VALUE=URI:https://www.district148.net/calendar/2198994/third-quarter-en
 ds
DTSTART;VALUE=DATE:20200320
DTEND;VALUE=DATE:20200321
END:VEVENT
END:VCALENDAR
