BEGIN:VCALENDAR
VERSION:2.0
PRODID:SchoolNow
CALSCALE:GREGORIAN
BEGIN:VEVENT
UID:73adc9f8-4c43-11ea-ab9a-0a3380fa0eb1
DTSTAMP:20200325T143511Z
SUMMARY:School Improvement Day - Students dismiss at noon
URL;VALUE=URI:https://www.district148.net/calendar/2198992/school-improveme
 nt-day-students-dismiss-at-oon
DTSTART;VALUE=DATE:20200306
DTEND;VALUE=DATE:20200307
END:VEVENT
END:VCALENDAR
