BEGIN:VCALENDAR
VERSION:2.0
PRODID:SchoolNow
CALSCALE:GREGORIAN
BEGIN:VEVENT
UID:99e5d97c-4c42-11ea-89dd-0a3380fa0eb1
DTSTAMP:20200210T201912Z
SUMMARY:Casimir Pulaski Day - No School
URL;VALUE=URI:https://www.district148.net/calendar/2198989/casimir-pulaski-
 day-no-school
DTSTART;VALUE=DATE:20200302
DTEND;VALUE=DATE:20200303
END:VEVENT
END:VCALENDAR
