BEGIN:VCALENDAR
VERSION:2.0
PRODID:SchoolNow
CALSCALE:GREGORIAN
BEGIN:VEVENT
UID:62de79e8-4c42-11ea-a155-1211d1828de7
DTSTAMP:20200210T201739Z
SUMMARY:School Board Meeting
URL;VALUE=URI:https://www.district148.net/calendar/2198987/school-board-mee
 ting
DTSTART:20200226T010000Z
DTEND:20200226T021500Z
END:VEVENT
END:VCALENDAR
