BEGIN:VCALENDAR
VERSION:2.0
PRODID:SchoolNow
CALSCALE:GREGORIAN
BEGIN:VEVENT
UID:09c7085c-4c42-11ea-a62b-1211d1828de7
DTSTAMP:20200210T201510Z
SUMMARY:Third Quarter Progress Reports sent home
URL;VALUE=URI:https://www.district148.net/calendar/2198986/third-quarter-pr
 ogress-reports-sent-home
DTSTART;VALUE=DATE:20200221
DTEND;VALUE=DATE:20200222
END:VEVENT
END:VCALENDAR
